BEGIN:VCALENDAR
VERSION:2.0
PRODID:-//Sabre//Sabre VObject 4.5.8//EN
CALSCALE:GREGORIAN
BEGIN:VTIMEZONE
TZID:Europe/Zurich
X-LIC-LOCATION:Europe/Zurich
TZURL:http://tzurl.org/zoneinfo/Europe/Zurich
BEGIN:DAYLIGHT
TZOFFSETFROM:+0100
TZOFFSETTO:+0200
TZNAME:CEST
DTSTART:19810329T020000
RRULE:FREQ=YEARLY;BYMONTH=3;BYDAY=-1SU
END:DAYLIGHT
BEGIN:STANDARD
TZOFFSETFROM:+0200
TZOFFSETTO:+0100
TZNAME:CET
DTSTART:19961027T030000
RRULE:FREQ=YEARLY;BYMONTH=10;BYDAY=-1SU
END:STANDARD
END:VTIMEZONE
BEGIN:VEVENT
UID:news212@sustainable-future.unibas.ch
DTSTAMP;TZID=Europe/Zurich:20260416T093546
DTSTART;TZID=Europe/Zurich:20260612T100000
SUMMARY:Reduce\, Repair\, Rethink 
DESCRIPTION:Hier [https://docs.google.com/forms/d/e/1FAIpQLSeB6Rvc37pTk1YT_
 bleO11bxRFpw_X3xgu_2EDBGES_ko5Ktw/viewform?usp=header] registrieren
X-ALT-DESC:<p><a href="https://docs.google.com/forms/d/e/1FAIpQLSeB6Rvc37pT
 k1YT_bleO11bxRFpw_X3xgu_2EDBGES_ko5Ktw/viewform?usp=header">Hier</a> regis
 trieren</p>
DTEND;TZID=Europe/Zurich:20260612T013000
END:VEVENT
END:VCALENDAR
