BEGIN:VCALENDAR
VERSION:2.0
PRODID:-//Sabre//Sabre VObject 4.5.8//EN
CALSCALE:GREGORIAN
BEGIN:VTIMEZONE
TZID:Europe/Zurich
X-LIC-LOCATION:Europe/Zurich
TZURL:http://tzurl.org/zoneinfo/Europe/Zurich
BEGIN:DAYLIGHT
TZOFFSETFROM:+0100
TZOFFSETTO:+0200
TZNAME:CEST
DTSTART:19810329T020000
RRULE:FREQ=YEARLY;BYMONTH=3;BYDAY=-1SU
END:DAYLIGHT
BEGIN:STANDARD
TZOFFSETFROM:+0200
TZOFFSETTO:+0100
TZNAME:CET
DTSTART:19961027T030000
RRULE:FREQ=YEARLY;BYMONTH=10;BYDAY=-1SU
END:STANDARD
END:VTIMEZONE
BEGIN:VEVENT
UID:news214@sustainable-future.unibas.ch
DTSTAMP;TZID=Europe/Zurich:20260416T144528
DTSTART;TZID=Europe/Zurich:20260618T103000
SUMMARY:Zukunftsdialog Baselland
DESCRIPTION:Save the Date\, mehr Infos folgen bald.
X-ALT-DESC:<p><strong>Save the Date\, mehr Infos folgen bald.</strong></p>
DTEND;TZID=Europe/Zurich:20260618T133000
END:VEVENT
END:VCALENDAR
